BEGIN:VCALENDAR
VERSION:2.0
PRODID:-//Le musée de l&#039;eau et de la fontaine - ECPv6.6.3//NONSGML v1.0//EN
CALSCALE:GREGORIAN
METHOD:PUBLISH
X-ORIGINAL-URL:https://lemuseedeleauetdelafontaine.be
X-WR-CALDESC:Events for Le musée de l&#039;eau et de la fontaine
REFRESH-INTERVAL;VALUE=DURATION:PT1H
X-Robots-Tag:noindex
X-PUBLISHED-TTL:PT1H
BEGIN:VTIMEZONE
TZID:Europe/Brussels
BEGIN:DAYLIGHT
TZOFFSETFROM:+0100
TZOFFSETTO:+0200
TZNAME:CEST
DTSTART:20240331T010000
END:DAYLIGHT
BEGIN:STANDARD
TZOFFSETFROM:+0200
TZOFFSETTO:+0100
TZNAME:CET
DTSTART:20241027T010000
END:STANDARD
END:VTIMEZONE
BEGIN:VEVENT
DTSTART;TZID=Europe/Brussels:20240707T110000
DTEND;TZID=Europe/Brussels:20240707T120000
DTSTAMP:20260422T042346
CREATED:20240131T101749Z
LAST-MODIFIED:20240612T085956Z
UID:10000243-1720350000-1720353600@lemuseedeleauetdelafontaine.be
SUMMARY:Visite guidée - tous publics
DESCRIPTION:Visitez nos espaces d’exposition en compagnie d’un.e de nos guides. Plongez dans le passé et découvrez l’histoire de l’accès à l’eau à travers le temps. Borne-fontaine\, vis d’Archimède\, hydrophone… ces objets sont liés à des métiers aujourd’hui disparus dans nos régions ! \nEn bref : \n📅 Les premiers dimanches de juillet et d’août (uniquement le 07/07/2024 et le 04/08/2024) \n🎯Tous publics \n⌛️Durée : +- 1h00 \n🚩Départ à 11h00 (15 personnes max. par groupe) \n💰Tarif : 6€ \n🎟️Réservation obligatoire : en ligne \n(P𝘰𝘴𝘴𝘪𝘣𝘪𝘭𝘪𝘵𝘦́ 𝘥𝘦 𝘴’𝘪𝘯𝘵𝘦́𝘨𝘳𝘦𝘳 𝘢𝘶 𝘨𝘳𝘰𝘶𝘱𝘦 (𝘮𝘢𝘹. 15 𝘱𝘦𝘳𝘴𝘰𝘯𝘯𝘦𝘴) 𝘭𝘦 𝘫𝘰𝘶𝘳-𝘮𝘦̂𝘮𝘦 𝘴𝘰𝘶𝘴 𝘳𝘦́𝘴𝘦𝘳𝘷𝘦 𝘥𝘦 𝘱𝘭𝘢𝘤𝘦𝘴 𝘥𝘪𝘴𝘱𝘰𝘯𝘪𝘣𝘭𝘦𝘴).
URL:https://lemuseedeleauetdelafontaine.be/programme/visite-guidee-tous-publics/
LOCATION:MEF (Bois des Rêves)\, Allée du Bois des Rêves 1\, Ottignies\, 1340\, Belgique
CATEGORIES:visite guidée
ORGANIZER;CN="Mus%C3%A9e de l'Eau et de la Fontaine":MAILTO:info@lemuseedeleauetdelafontaine.be
END:VEVENT
BEGIN:VEVENT
DTSTART;TZID=Europe/Brussels:20240709T103000
DTEND;TZID=Europe/Brussels:20240709T113000
DTSTAMP:20260422T042346
CREATED:20240102T135525Z
LAST-MODIFIED:20240229T081527Z
UID:10000226-1720521000-1720524600@lemuseedeleauetdelafontaine.be
SUMMARY:Atelier de musique aquatique
DESCRIPTION:Durant les vacances scolaires de juillet et d’août\, venez découvrir les sonorités de l’eau avec nos drôles instruments ! \nEn bref : \n🪇à partir de 3 ans \n⌛️Durée : +- 1h00 \n🚩Horaire : tous les mardis de juillet et d’août 2024 à 10h30 (sauf les 02/07 et 27/08) \n💰Tarif : 6€ par enfant* \n🎟️Réservation obligatoire : en ligne\n \n  \n*Les enfants de moins de 5 ans doivent être accompagné d’un adulte (gratuit) durant l’atelier.
URL:https://lemuseedeleauetdelafontaine.be/programme/atelier-de-musique-aquatique/2024-07-09/
LOCATION:MEF (Bois des Rêves)\, Allée du Bois des Rêves 1\, Ottignies\, 1340\, Belgique
CATEGORIES:famille,musique
ORGANIZER;CN="Mus%C3%A9e de l'Eau et de la Fontaine":MAILTO:info@lemuseedeleauetdelafontaine.be
END:VEVENT
BEGIN:VEVENT
DTSTART;TZID=Europe/Brussels:20240710T133000
DTEND;TZID=Europe/Brussels:20240710T163000
DTSTAMP:20260422T042346
CREATED:20240102T140616Z
LAST-MODIFIED:20240229T083626Z
UID:10000233-1720618200-1720629000@lemuseedeleauetdelafontaine.be
SUMMARY:Après-midi "parents non-admis"
DESCRIPTION:L’équipe du MEF s’occupe de vos enfants pour l’après-midi\, de 13h30 à 16h30\, de quoi vous laisser le temps d’aller vous balader\, profiter… \nChaque après-midi est associée à une thématique unique ! \n  \nEn bref : \n🧒De 5 à 10 ans \n⌛️Durée : 3 heures \n🚩Horaire : tous les mercredis de juillet et d’août 2024 de 13h30 à 16h30 (sauf les 03/07 et 28/08) \n💰Tarif : 12€ par enfant \n🎟️Réservation obligatoire : en ligne \n 
URL:https://lemuseedeleauetdelafontaine.be/programme/apres-midi-parents-non-admis-3/2024-07-10/
LOCATION:MEF (Bois des Rêves)\, Allée du Bois des Rêves 1\, Ottignies\, 1340\, Belgique
CATEGORIES:Stages
ORGANIZER;CN="Mus%C3%A9e de l'Eau et de la Fontaine":MAILTO:info@lemuseedeleauetdelafontaine.be
END:VEVENT
BEGIN:VEVENT
DTSTART;TZID=Europe/Brussels:20240711T103000
DTEND;TZID=Europe/Brussels:20240711T113000
DTSTAMP:20260422T042346
CREATED:20240102T141322Z
LAST-MODIFIED:20240602T102542Z
UID:10000234-1720693800-1720697400@lemuseedeleauetdelafontaine.be
SUMMARY:Animation intergénérationnelle
DESCRIPTION:Venez passer un chouette moment en famille lors d’une animation thématique autour de l’eau. Observez la nature\, découvrez comment protéger l’or bleu et comprenez en quoi l’eau est source de vie ! \n\nEn juillet\, animations sur la thématique de la nature.\nEn août\, animations sur la thématique de la protection de l’environnement.\n\n  \nEn bref : \n👨‍👩‍👦À partir de 5 ans \n⌛️Durée : +- 1 heure \n🚩Horaire : tous les jeudis de juillet et d’août 2024 à 10h30 (sauf les 04/07\, 15/08 et 29/08) \n💰Tarif : 6€ par participant \n🎟️Réservation obligatoire : en ligne
URL:https://lemuseedeleauetdelafontaine.be/programme/animation-intergenerationnelle/2024-07-11/
LOCATION:MEF (Bois des Rêves)\, Allée du Bois des Rêves 1\, Ottignies\, 1340\, Belgique
CATEGORIES:famille
ORGANIZER;CN="Mus%C3%A9e de l'Eau et de la Fontaine":MAILTO:info@lemuseedeleauetdelafontaine.be
END:VEVENT
BEGIN:VEVENT
DTSTART;TZID=Europe/Brussels:20240716T103000
DTEND;TZID=Europe/Brussels:20240716T113000
DTSTAMP:20260422T042346
CREATED:20240102T135525Z
LAST-MODIFIED:20240229T081527Z
UID:10000227-1721125800-1721129400@lemuseedeleauetdelafontaine.be
SUMMARY:Atelier de musique aquatique
DESCRIPTION:Durant les vacances scolaires de juillet et d’août\, venez découvrir les sonorités de l’eau avec nos drôles instruments ! \nEn bref : \n🪇à partir de 3 ans \n⌛️Durée : +- 1h00 \n🚩Horaire : tous les mardis de juillet et d’août 2024 à 10h30 (sauf les 02/07 et 27/08) \n💰Tarif : 6€ par enfant* \n🎟️Réservation obligatoire : en ligne\n \n  \n*Les enfants de moins de 5 ans doivent être accompagné d’un adulte (gratuit) durant l’atelier.
URL:https://lemuseedeleauetdelafontaine.be/programme/atelier-de-musique-aquatique/2024-07-16/
LOCATION:MEF (Bois des Rêves)\, Allée du Bois des Rêves 1\, Ottignies\, 1340\, Belgique
CATEGORIES:famille,musique
ORGANIZER;CN="Mus%C3%A9e de l'Eau et de la Fontaine":MAILTO:info@lemuseedeleauetdelafontaine.be
END:VEVENT
BEGIN:VEVENT
DTSTART;TZID=Europe/Brussels:20240717T133000
DTEND;TZID=Europe/Brussels:20240717T163000
DTSTAMP:20260422T042346
CREATED:20240102T140616Z
LAST-MODIFIED:20240229T083626Z
UID:10000248-1721223000-1721233800@lemuseedeleauetdelafontaine.be
SUMMARY:Après-midi "parents non-admis"
DESCRIPTION:L’équipe du MEF s’occupe de vos enfants pour l’après-midi\, de 13h30 à 16h30\, de quoi vous laisser le temps d’aller vous balader\, profiter… \nChaque après-midi est associée à une thématique unique ! \n  \nEn bref : \n🧒De 5 à 10 ans \n⌛️Durée : 3 heures \n🚩Horaire : tous les mercredis de juillet et d’août 2024 de 13h30 à 16h30 (sauf les 03/07 et 28/08) \n💰Tarif : 12€ par enfant \n🎟️Réservation obligatoire : en ligne \n 
URL:https://lemuseedeleauetdelafontaine.be/programme/apres-midi-parents-non-admis-3/2024-07-17/
LOCATION:MEF (Bois des Rêves)\, Allée du Bois des Rêves 1\, Ottignies\, 1340\, Belgique
CATEGORIES:Stages
ORGANIZER;CN="Mus%C3%A9e de l'Eau et de la Fontaine":MAILTO:info@lemuseedeleauetdelafontaine.be
END:VEVENT
BEGIN:VEVENT
DTSTART;TZID=Europe/Brussels:20240718T103000
DTEND;TZID=Europe/Brussels:20240718T113000
DTSTAMP:20260422T042346
CREATED:20240102T141322Z
LAST-MODIFIED:20240602T102542Z
UID:10000235-1721298600-1721302200@lemuseedeleauetdelafontaine.be
SUMMARY:Animation intergénérationnelle
DESCRIPTION:Venez passer un chouette moment en famille lors d’une animation thématique autour de l’eau. Observez la nature\, découvrez comment protéger l’or bleu et comprenez en quoi l’eau est source de vie ! \n\nEn juillet\, animations sur la thématique de la nature.\nEn août\, animations sur la thématique de la protection de l’environnement.\n\n  \nEn bref : \n👨‍👩‍👦À partir de 5 ans \n⌛️Durée : +- 1 heure \n🚩Horaire : tous les jeudis de juillet et d’août 2024 à 10h30 (sauf les 04/07\, 15/08 et 29/08) \n💰Tarif : 6€ par participant \n🎟️Réservation obligatoire : en ligne
URL:https://lemuseedeleauetdelafontaine.be/programme/animation-intergenerationnelle/2024-07-18/
LOCATION:MEF (Bois des Rêves)\, Allée du Bois des Rêves 1\, Ottignies\, 1340\, Belgique
CATEGORIES:famille
ORGANIZER;CN="Mus%C3%A9e de l'Eau et de la Fontaine":MAILTO:info@lemuseedeleauetdelafontaine.be
END:VEVENT
BEGIN:VEVENT
DTSTART;TZID=Europe/Brussels:20240723T103000
DTEND;TZID=Europe/Brussels:20240723T113000
DTSTAMP:20260422T042346
CREATED:20240102T135525Z
LAST-MODIFIED:20240229T081527Z
UID:10000228-1721730600-1721734200@lemuseedeleauetdelafontaine.be
SUMMARY:Atelier de musique aquatique
DESCRIPTION:Durant les vacances scolaires de juillet et d’août\, venez découvrir les sonorités de l’eau avec nos drôles instruments ! \nEn bref : \n🪇à partir de 3 ans \n⌛️Durée : +- 1h00 \n🚩Horaire : tous les mardis de juillet et d’août 2024 à 10h30 (sauf les 02/07 et 27/08) \n💰Tarif : 6€ par enfant* \n🎟️Réservation obligatoire : en ligne\n \n  \n*Les enfants de moins de 5 ans doivent être accompagné d’un adulte (gratuit) durant l’atelier.
URL:https://lemuseedeleauetdelafontaine.be/programme/atelier-de-musique-aquatique/2024-07-23/
LOCATION:MEF (Bois des Rêves)\, Allée du Bois des Rêves 1\, Ottignies\, 1340\, Belgique
CATEGORIES:famille,musique
ORGANIZER;CN="Mus%C3%A9e de l'Eau et de la Fontaine":MAILTO:info@lemuseedeleauetdelafontaine.be
END:VEVENT
BEGIN:VEVENT
DTSTART;TZID=Europe/Brussels:20240724T133000
DTEND;TZID=Europe/Brussels:20240724T163000
DTSTAMP:20260422T042346
CREATED:20240102T140616Z
LAST-MODIFIED:20240229T083626Z
UID:10000249-1721827800-1721838600@lemuseedeleauetdelafontaine.be
SUMMARY:Après-midi "parents non-admis"
DESCRIPTION:L’équipe du MEF s’occupe de vos enfants pour l’après-midi\, de 13h30 à 16h30\, de quoi vous laisser le temps d’aller vous balader\, profiter… \nChaque après-midi est associée à une thématique unique ! \n  \nEn bref : \n🧒De 5 à 10 ans \n⌛️Durée : 3 heures \n🚩Horaire : tous les mercredis de juillet et d’août 2024 de 13h30 à 16h30 (sauf les 03/07 et 28/08) \n💰Tarif : 12€ par enfant \n🎟️Réservation obligatoire : en ligne \n 
URL:https://lemuseedeleauetdelafontaine.be/programme/apres-midi-parents-non-admis-3/2024-07-24/
LOCATION:MEF (Bois des Rêves)\, Allée du Bois des Rêves 1\, Ottignies\, 1340\, Belgique
CATEGORIES:Stages
ORGANIZER;CN="Mus%C3%A9e de l'Eau et de la Fontaine":MAILTO:info@lemuseedeleauetdelafontaine.be
END:VEVENT
BEGIN:VEVENT
DTSTART;TZID=Europe/Brussels:20240725T103000
DTEND;TZID=Europe/Brussels:20240725T113000
DTSTAMP:20260422T042346
CREATED:20240102T141322Z
LAST-MODIFIED:20240602T102542Z
UID:10000236-1721903400-1721907000@lemuseedeleauetdelafontaine.be
SUMMARY:Animation intergénérationnelle
DESCRIPTION:Venez passer un chouette moment en famille lors d’une animation thématique autour de l’eau. Observez la nature\, découvrez comment protéger l’or bleu et comprenez en quoi l’eau est source de vie ! \n\nEn juillet\, animations sur la thématique de la nature.\nEn août\, animations sur la thématique de la protection de l’environnement.\n\n  \nEn bref : \n👨‍👩‍👦À partir de 5 ans \n⌛️Durée : +- 1 heure \n🚩Horaire : tous les jeudis de juillet et d’août 2024 à 10h30 (sauf les 04/07\, 15/08 et 29/08) \n💰Tarif : 6€ par participant \n🎟️Réservation obligatoire : en ligne
URL:https://lemuseedeleauetdelafontaine.be/programme/animation-intergenerationnelle/2024-07-25/
LOCATION:MEF (Bois des Rêves)\, Allée du Bois des Rêves 1\, Ottignies\, 1340\, Belgique
CATEGORIES:famille
ORGANIZER;CN="Mus%C3%A9e de l'Eau et de la Fontaine":MAILTO:info@lemuseedeleauetdelafontaine.be
END:VEVENT
BEGIN:VEVENT
DTSTART;TZID=Europe/Brussels:20240730T103000
DTEND;TZID=Europe/Brussels:20240730T113000
DTSTAMP:20260422T042346
CREATED:20240102T135525Z
LAST-MODIFIED:20240229T081527Z
UID:10000229-1722335400-1722339000@lemuseedeleauetdelafontaine.be
SUMMARY:Atelier de musique aquatique
DESCRIPTION:Durant les vacances scolaires de juillet et d’août\, venez découvrir les sonorités de l’eau avec nos drôles instruments ! \nEn bref : \n🪇à partir de 3 ans \n⌛️Durée : +- 1h00 \n🚩Horaire : tous les mardis de juillet et d’août 2024 à 10h30 (sauf les 02/07 et 27/08) \n💰Tarif : 6€ par enfant* \n🎟️Réservation obligatoire : en ligne\n \n  \n*Les enfants de moins de 5 ans doivent être accompagné d’un adulte (gratuit) durant l’atelier.
URL:https://lemuseedeleauetdelafontaine.be/programme/atelier-de-musique-aquatique/2024-07-30/
LOCATION:MEF (Bois des Rêves)\, Allée du Bois des Rêves 1\, Ottignies\, 1340\, Belgique
CATEGORIES:famille,musique
ORGANIZER;CN="Mus%C3%A9e de l'Eau et de la Fontaine":MAILTO:info@lemuseedeleauetdelafontaine.be
END:VEVENT
BEGIN:VEVENT
DTSTART;TZID=Europe/Brussels:20240731T133000
DTEND;TZID=Europe/Brussels:20240731T163000
DTSTAMP:20260422T042346
CREATED:20240102T140616Z
LAST-MODIFIED:20240229T083626Z
UID:10000250-1722432600-1722443400@lemuseedeleauetdelafontaine.be
SUMMARY:Après-midi "parents non-admis"
DESCRIPTION:L’équipe du MEF s’occupe de vos enfants pour l’après-midi\, de 13h30 à 16h30\, de quoi vous laisser le temps d’aller vous balader\, profiter… \nChaque après-midi est associée à une thématique unique ! \n  \nEn bref : \n🧒De 5 à 10 ans \n⌛️Durée : 3 heures \n🚩Horaire : tous les mercredis de juillet et d’août 2024 de 13h30 à 16h30 (sauf les 03/07 et 28/08) \n💰Tarif : 12€ par enfant \n🎟️Réservation obligatoire : en ligne \n 
URL:https://lemuseedeleauetdelafontaine.be/programme/apres-midi-parents-non-admis-3/2024-07-31/
LOCATION:MEF (Bois des Rêves)\, Allée du Bois des Rêves 1\, Ottignies\, 1340\, Belgique
CATEGORIES:Stages
ORGANIZER;CN="Mus%C3%A9e de l'Eau et de la Fontaine":MAILTO:info@lemuseedeleauetdelafontaine.be
END:VEVENT
END:VCALENDAR