BEGIN:VCALENDAR
VERSION:2.0
PRODID:-//Le musée de l&#039;eau et de la fontaine - ECPv6.6.3//NONSGML v1.0//EN
CALSCALE:GREGORIAN
METHOD:PUBLISH
X-WR-CALNAME:Le musée de l&#039;eau et de la fontaine
X-ORIGINAL-URL:https://lemuseedeleauetdelafontaine.be
X-WR-CALDESC:Events for Le musée de l&#039;eau et de la fontaine
REFRESH-INTERVAL;VALUE=DURATION:PT1H
X-Robots-Tag:noindex
X-PUBLISHED-TTL:PT1H
BEGIN:VTIMEZONE
TZID:Europe/Brussels
BEGIN:DAYLIGHT
TZOFFSETFROM:+0100
TZOFFSETTO:+0200
TZNAME:CEST
DTSTART:20210328T010000
END:DAYLIGHT
BEGIN:STANDARD
TZOFFSETFROM:+0200
TZOFFSETTO:+0100
TZNAME:CET
DTSTART:20211031T010000
END:STANDARD
END:VTIMEZONE
BEGIN:VEVENT
DTSTART;TZID=Europe/Brussels:20210514T093000
DTEND;TZID=Europe/Brussels:20210514T170000
DTSTAMP:20260420T185020
CREATED:20210427T075514Z
LAST-MODIFIED:20210427T090340Z
UID:10000144-1620984600-1621011600@lemuseedeleauetdelafontaine.be
SUMMARY:Journée famille « Exploration nature aux musées »
DESCRIPTION:Une journée combinée pour découvrir deux musées  : le Musée de l’Eau et de la Fontaine et le Musée L et participez en famille à des activités artistiques et scientifiques. \nAu Musée de l’Eau et de la Fontaine\, partez à la découverte de la faune et la flore du Bois des Rêves ! Avec votre loupe personnalisée\, vous découvrirez le fonctionnement d’une mare et de ses habitants ! Au Musée L où de nombreux animaux se cachent dans les collections ! Allez à la rencontre de ces bêtes et bestioles peintes\, sculptées ou naturalisées. En famille\, découvrez que l’être humain et l’animal se sont toujours côtoyés\, inspirés par la curiosité\, la peur ou encore l’imaginaire. Laissez ensuite libre cours à votre créativité au cours d’un atelier sur le thème de la nature. \nVisite en « bulle famille » (personnes vivant sous le même toit).\nDurée : 1h dans chaque musée \nHoraire entre 9h30 et 17h00t \nPrix : 10 € /personne pour la journée (entrée aux musées comprises) \nRéservation obligatoire : www.museel.be ou www.lemuseedeleauetdelafontaine.be \nDéroulement : Programme en miroir avec temps de pause et de déplacement libre à midi. Quand vous réservez au matin dans un musée\, vous avez la suite l’après-midi dans l’autre musée. Cela vous laisse le temps de profiter à cette occasion de la plaine de jeux du Bois des Rêves\, du piétonnier ou du lac de Louvain-la-Neuve. Itinéraire vélo à disposition pour faire le trajet entre les deux musées \nEn partenariat avec Marmaille & Co \nChargement en cours…
URL:https://lemuseedeleauetdelafontaine.be/programme/journee-famille-exploration-nature-aux-musees/
CATEGORIES:famille
END:VEVENT
END:VCALENDAR