BEGIN:VCALENDAR
VERSION:2.0
PRODID:-//Le musée de l&#039;eau et de la fontaine - ECPv6.6.3//NONSGML v1.0//EN
CALSCALE:GREGORIAN
METHOD:PUBLISH
X-WR-CALNAME:Le musée de l&#039;eau et de la fontaine
X-ORIGINAL-URL:https://lemuseedeleauetdelafontaine.be
X-WR-CALDESC:Events for Le musée de l&#039;eau et de la fontaine
REFRESH-INTERVAL;VALUE=DURATION:PT1H
X-Robots-Tag:noindex
X-PUBLISHED-TTL:PT1H
BEGIN:VTIMEZONE
TZID:Europe/Brussels
BEGIN:DAYLIGHT
TZOFFSETFROM:+0100
TZOFFSETTO:+0200
TZNAME:CEST
DTSTART:20210328T010000
END:DAYLIGHT
BEGIN:STANDARD
TZOFFSETFROM:+0200
TZOFFSETTO:+0100
TZNAME:CET
DTSTART:20211031T010000
END:STANDARD
END:VTIMEZONE
BEGIN:VEVENT
DTSTART;TZID=Europe/Brussels:20210215T100000
DTEND;TZID=Europe/Brussels:20210217T160000
DTSTAMP:20260422T083056
CREATED:20210205T105904Z
LAST-MODIFIED:20210215T151504Z
UID:10000139-1613383200-1613577600@lemuseedeleauetdelafontaine.be
SUMMARY:Animation famille : Les Pirates d'eau douce [COMPLET]
DESCRIPTION:[COMPLET] [COMPLET] \nQui dit vacances de Carnaval\, dit débarquement des pirates au Musée de l’Eau et de la Fontaine !\nVenez affronter les corsaires du MEF dans une série d’épreuves et repartez avec votre sabre customisé ! Si vous n’avez pas peur de vous défendre face aux monstres marins\, de partir à la recherche de trésors enfouis ou de participer à une bataille navale\, alors n’attendez plus et rejoignez nous ! \nEn bref :\n8 euros par participant\nDu 15 au 17 février de 10h à 16h\nUn départ toutes les 30 minutes\nÀ partir de 5 ans\nDurée estimée : 1h30\nRéservation obligatoire \nChargement en cours…
URL:https://lemuseedeleauetdelafontaine.be/programme/animation-famille-les-pirates-deau-douce/
CATEGORIES:famille
END:VEVENT
END:VCALENDAR