BEGIN:VCALENDAR
VERSION:2.0
PRODID:-//Le musée de l&#039;eau et de la fontaine - ECPv6.6.3//NONSGML v1.0//EN
CALSCALE:GREGORIAN
METHOD:PUBLISH
X-ORIGINAL-URL:https://lemuseedeleauetdelafontaine.be
X-WR-CALDESC:Events for Le musée de l&#039;eau et de la fontaine
REFRESH-INTERVAL;VALUE=DURATION:PT1H
X-Robots-Tag:noindex
X-PUBLISHED-TTL:PT1H
BEGIN:VTIMEZONE
TZID:Europe/Brussels
BEGIN:DAYLIGHT
TZOFFSETFROM:+0100
TZOFFSETTO:+0200
TZNAME:CEST
DTSTART:20240331T010000
END:DAYLIGHT
BEGIN:STANDARD
TZOFFSETFROM:+0200
TZOFFSETTO:+0100
TZNAME:CET
DTSTART:20241027T010000
END:STANDARD
END:VTIMEZONE
BEGIN:VEVENT
DTSTART;TZID=Europe/Brussels:20240927T130000
DTEND;TZID=Europe/Brussels:20240927T170000
DTSTAMP:20260421T183640
CREATED:20240823T101751Z
LAST-MODIFIED:20240827T122150Z
UID:10000254-1727442000-1727456400@lemuseedeleauetdelafontaine.be
SUMMARY:Après-midi portes ouverte au MEF !
DESCRIPTION:Le Musée de l’Eau et de la Fontaine (MEF) vous invite à son après-midi portes ouvertes le vendredi 27 septembre de 13h à 17h !\nVenez découvrir nos espaces lors de cet évènement familial et gratuit* !\n\nAu programme :\n Grimages\n🫧Bulles géantes\n Atelier de musique aquatique\n Accès libre aux espaces\n Spectacle (*Payant / Plus d’informations à venir)\n& d’autres…\n\nEn bref :\n\n\n👨‍👩‍👦Tous publics\n⌛️Horaire : de 13h00 à 17h00\n💰Tarif : GRATUIT* (à l’exception du spectacle)
URL:https://lemuseedeleauetdelafontaine.be/programme/apres-midi-portes-ouverte-au-mef/
CATEGORIES:famille,musique
END:VEVENT
BEGIN:VEVENT
DTSTART;TZID=Europe/Brussels:20240820T103000
DTEND;TZID=Europe/Brussels:20240820T113000
DTSTAMP:20260421T183640
CREATED:20240102T135525Z
LAST-MODIFIED:20240229T081527Z
UID:10000232-1724149800-1724153400@lemuseedeleauetdelafontaine.be
SUMMARY:Atelier de musique aquatique
DESCRIPTION:Durant les vacances scolaires de juillet et d’août\, venez découvrir les sonorités de l’eau avec nos drôles instruments ! \nEn bref : \n🪇à partir de 3 ans \n⌛️Durée : +- 1h00 \n🚩Horaire : tous les mardis de juillet et d’août 2024 à 10h30 (sauf les 02/07 et 27/08) \n💰Tarif : 6€ par enfant* \n🎟️Réservation obligatoire : en ligne\n \n  \n*Les enfants de moins de 5 ans doivent être accompagné d’un adulte (gratuit) durant l’atelier.
URL:https://lemuseedeleauetdelafontaine.be/programme/atelier-de-musique-aquatique/2024-08-20/
LOCATION:MEF (Bois des Rêves)\, Allée du Bois des Rêves 1\, Ottignies\, 1340\, Belgique
CATEGORIES:famille,musique
ORGANIZER;CN="Mus%C3%A9e de l'Eau et de la Fontaine":MAILTO:info@lemuseedeleauetdelafontaine.be
END:VEVENT
BEGIN:VEVENT
DTSTART;TZID=Europe/Brussels:20240813T103000
DTEND;TZID=Europe/Brussels:20240813T113000
DTSTAMP:20260421T183640
CREATED:20240102T135525Z
LAST-MODIFIED:20240229T081527Z
UID:10000231-1723545000-1723548600@lemuseedeleauetdelafontaine.be
SUMMARY:Atelier de musique aquatique
DESCRIPTION:Durant les vacances scolaires de juillet et d’août\, venez découvrir les sonorités de l’eau avec nos drôles instruments ! \nEn bref : \n🪇à partir de 3 ans \n⌛️Durée : +- 1h00 \n🚩Horaire : tous les mardis de juillet et d’août 2024 à 10h30 (sauf les 02/07 et 27/08) \n💰Tarif : 6€ par enfant* \n🎟️Réservation obligatoire : en ligne\n \n  \n*Les enfants de moins de 5 ans doivent être accompagné d’un adulte (gratuit) durant l’atelier.
URL:https://lemuseedeleauetdelafontaine.be/programme/atelier-de-musique-aquatique/2024-08-13/
LOCATION:MEF (Bois des Rêves)\, Allée du Bois des Rêves 1\, Ottignies\, 1340\, Belgique
CATEGORIES:famille,musique
ORGANIZER;CN="Mus%C3%A9e de l'Eau et de la Fontaine":MAILTO:info@lemuseedeleauetdelafontaine.be
END:VEVENT
BEGIN:VEVENT
DTSTART;TZID=Europe/Brussels:20240806T103000
DTEND;TZID=Europe/Brussels:20240806T113000
DTSTAMP:20260421T183640
CREATED:20240102T135525Z
LAST-MODIFIED:20240229T081527Z
UID:10000230-1722940200-1722943800@lemuseedeleauetdelafontaine.be
SUMMARY:Atelier de musique aquatique
DESCRIPTION:Durant les vacances scolaires de juillet et d’août\, venez découvrir les sonorités de l’eau avec nos drôles instruments ! \nEn bref : \n🪇à partir de 3 ans \n⌛️Durée : +- 1h00 \n🚩Horaire : tous les mardis de juillet et d’août 2024 à 10h30 (sauf les 02/07 et 27/08) \n💰Tarif : 6€ par enfant* \n🎟️Réservation obligatoire : en ligne\n \n  \n*Les enfants de moins de 5 ans doivent être accompagné d’un adulte (gratuit) durant l’atelier.
URL:https://lemuseedeleauetdelafontaine.be/programme/atelier-de-musique-aquatique/2024-08-06/
LOCATION:MEF (Bois des Rêves)\, Allée du Bois des Rêves 1\, Ottignies\, 1340\, Belgique
CATEGORIES:famille,musique
ORGANIZER;CN="Mus%C3%A9e de l'Eau et de la Fontaine":MAILTO:info@lemuseedeleauetdelafontaine.be
END:VEVENT
BEGIN:VEVENT
DTSTART;TZID=Europe/Brussels:20240730T103000
DTEND;TZID=Europe/Brussels:20240730T113000
DTSTAMP:20260421T183640
CREATED:20240102T135525Z
LAST-MODIFIED:20240229T081527Z
UID:10000229-1722335400-1722339000@lemuseedeleauetdelafontaine.be
SUMMARY:Atelier de musique aquatique
DESCRIPTION:Durant les vacances scolaires de juillet et d’août\, venez découvrir les sonorités de l’eau avec nos drôles instruments ! \nEn bref : \n🪇à partir de 3 ans \n⌛️Durée : +- 1h00 \n🚩Horaire : tous les mardis de juillet et d’août 2024 à 10h30 (sauf les 02/07 et 27/08) \n💰Tarif : 6€ par enfant* \n🎟️Réservation obligatoire : en ligne\n \n  \n*Les enfants de moins de 5 ans doivent être accompagné d’un adulte (gratuit) durant l’atelier.
URL:https://lemuseedeleauetdelafontaine.be/programme/atelier-de-musique-aquatique/2024-07-30/
LOCATION:MEF (Bois des Rêves)\, Allée du Bois des Rêves 1\, Ottignies\, 1340\, Belgique
CATEGORIES:famille,musique
ORGANIZER;CN="Mus%C3%A9e de l'Eau et de la Fontaine":MAILTO:info@lemuseedeleauetdelafontaine.be
END:VEVENT
BEGIN:VEVENT
DTSTART;TZID=Europe/Brussels:20240723T103000
DTEND;TZID=Europe/Brussels:20240723T113000
DTSTAMP:20260421T183640
CREATED:20240102T135525Z
LAST-MODIFIED:20240229T081527Z
UID:10000228-1721730600-1721734200@lemuseedeleauetdelafontaine.be
SUMMARY:Atelier de musique aquatique
DESCRIPTION:Durant les vacances scolaires de juillet et d’août\, venez découvrir les sonorités de l’eau avec nos drôles instruments ! \nEn bref : \n🪇à partir de 3 ans \n⌛️Durée : +- 1h00 \n🚩Horaire : tous les mardis de juillet et d’août 2024 à 10h30 (sauf les 02/07 et 27/08) \n💰Tarif : 6€ par enfant* \n🎟️Réservation obligatoire : en ligne\n \n  \n*Les enfants de moins de 5 ans doivent être accompagné d’un adulte (gratuit) durant l’atelier.
URL:https://lemuseedeleauetdelafontaine.be/programme/atelier-de-musique-aquatique/2024-07-23/
LOCATION:MEF (Bois des Rêves)\, Allée du Bois des Rêves 1\, Ottignies\, 1340\, Belgique
CATEGORIES:famille,musique
ORGANIZER;CN="Mus%C3%A9e de l'Eau et de la Fontaine":MAILTO:info@lemuseedeleauetdelafontaine.be
END:VEVENT
BEGIN:VEVENT
DTSTART;TZID=Europe/Brussels:20240716T103000
DTEND;TZID=Europe/Brussels:20240716T113000
DTSTAMP:20260421T183640
CREATED:20240102T135525Z
LAST-MODIFIED:20240229T081527Z
UID:10000227-1721125800-1721129400@lemuseedeleauetdelafontaine.be
SUMMARY:Atelier de musique aquatique
DESCRIPTION:Durant les vacances scolaires de juillet et d’août\, venez découvrir les sonorités de l’eau avec nos drôles instruments ! \nEn bref : \n🪇à partir de 3 ans \n⌛️Durée : +- 1h00 \n🚩Horaire : tous les mardis de juillet et d’août 2024 à 10h30 (sauf les 02/07 et 27/08) \n💰Tarif : 6€ par enfant* \n🎟️Réservation obligatoire : en ligne\n \n  \n*Les enfants de moins de 5 ans doivent être accompagné d’un adulte (gratuit) durant l’atelier.
URL:https://lemuseedeleauetdelafontaine.be/programme/atelier-de-musique-aquatique/2024-07-16/
LOCATION:MEF (Bois des Rêves)\, Allée du Bois des Rêves 1\, Ottignies\, 1340\, Belgique
CATEGORIES:famille,musique
ORGANIZER;CN="Mus%C3%A9e de l'Eau et de la Fontaine":MAILTO:info@lemuseedeleauetdelafontaine.be
END:VEVENT
BEGIN:VEVENT
DTSTART;TZID=Europe/Brussels:20240709T103000
DTEND;TZID=Europe/Brussels:20240709T113000
DTSTAMP:20260421T183640
CREATED:20240102T135525Z
LAST-MODIFIED:20240229T081527Z
UID:10000226-1720521000-1720524600@lemuseedeleauetdelafontaine.be
SUMMARY:Atelier de musique aquatique
DESCRIPTION:Durant les vacances scolaires de juillet et d’août\, venez découvrir les sonorités de l’eau avec nos drôles instruments ! \nEn bref : \n🪇à partir de 3 ans \n⌛️Durée : +- 1h00 \n🚩Horaire : tous les mardis de juillet et d’août 2024 à 10h30 (sauf les 02/07 et 27/08) \n💰Tarif : 6€ par enfant* \n🎟️Réservation obligatoire : en ligne\n \n  \n*Les enfants de moins de 5 ans doivent être accompagné d’un adulte (gratuit) durant l’atelier.
URL:https://lemuseedeleauetdelafontaine.be/programme/atelier-de-musique-aquatique/2024-07-09/
LOCATION:MEF (Bois des Rêves)\, Allée du Bois des Rêves 1\, Ottignies\, 1340\, Belgique
CATEGORIES:famille,musique
ORGANIZER;CN="Mus%C3%A9e de l'Eau et de la Fontaine":MAILTO:info@lemuseedeleauetdelafontaine.be
END:VEVENT
END:VCALENDAR