BEGIN:VCALENDAR
VERSION:2.0
PRODID:-//Le musée de l&#039;eau et de la fontaine - ECPv6.6.3//NONSGML v1.0//EN
CALSCALE:GREGORIAN
METHOD:PUBLISH
X-WR-CALNAME:Le musée de l&#039;eau et de la fontaine
X-ORIGINAL-URL:https://lemuseedeleauetdelafontaine.be
X-WR-CALDESC:Events for Le musée de l&#039;eau et de la fontaine
REFRESH-INTERVAL;VALUE=DURATION:PT1H
X-Robots-Tag:noindex
X-PUBLISHED-TTL:PT1H
BEGIN:VTIMEZONE
TZID:Europe/Brussels
BEGIN:DAYLIGHT
TZOFFSETFROM:+0100
TZOFFSETTO:+0200
TZNAME:CEST
DTSTART:20210328T010000
END:DAYLIGHT
BEGIN:STANDARD
TZOFFSETFROM:+0200
TZOFFSETTO:+0100
TZNAME:CET
DTSTART:20211031T010000
END:STANDARD
END:VTIMEZONE
BEGIN:VEVENT
DTSTART;TZID=Europe/Brussels:20211102T100000
DTEND;TZID=Europe/Brussels:20211102T153000
DTSTAMP:20260420T014020
CREATED:20210916T083143Z
LAST-MODIFIED:20211102T101330Z
UID:10000160-1635847200-1635867000@lemuseedeleauetdelafontaine.be
SUMMARY:Animation famille - Perlita & les mystères des mers
DESCRIPTION:👻 Emmène ta famille et pars à l’aventure avec Perlita à la découverte des mystères marins !\n🤿 Prenez vos tubas\, scaphandres\, palmes et beaucoup de courage et explorez ensemble l’épave de Barbe Noire\, les secrets de l’Atlantide et les mythes des vaisseaux fantômes.\n🧜 Découvertes\, expériences\, parcours dans le noir ou encore bricolage seront au programme pour cette animation familiale. \n📆Du 2 au 5 novembre\n⏱ Entre 10h à 15h30 (Un départ toutes les 30 minutes)\n⌛️ 1h30\n🙋‍ À partir de 7 ans (Les activités sont adaptées à partir de cet âge mais les enfants en dessous de 7 ans sont les bienvenus évidemment !)\n🎟 8\,00 euros par personne\n💻 Réservation obligatoire \n[Le Covid Safe Ticket ne sera pas demandé pour cet événement étant donné qu’il n’y aurait jamais plus de 50 personnes en même temps dans les locaux du Musée. Vous fonctionnez par bulles familiales. Le port du masque est par contre obligatoire pour les + de 12 ans durant toute l’activité] \nChargement en cours…
URL:https://lemuseedeleauetdelafontaine.be/programme/animation-famille-perlita-les-mysteres-des-mers/2021-11-02/
CATEGORIES:famille
END:VEVENT
END:VCALENDAR