BEGIN:VCALENDAR
VERSION:2.0
PRODID:-//Le musée de l&#039;eau et de la fontaine - ECPv6.6.3//NONSGML v1.0//EN
CALSCALE:GREGORIAN
METHOD:PUBLISH
X-WR-CALNAME:Le musée de l&#039;eau et de la fontaine
X-ORIGINAL-URL:https://lemuseedeleauetdelafontaine.be
X-WR-CALDESC:Events for Le musée de l&#039;eau et de la fontaine
REFRESH-INTERVAL;VALUE=DURATION:PT1H
X-Robots-Tag:noindex
X-PUBLISHED-TTL:PT1H
BEGIN:VTIMEZONE
TZID:Europe/Brussels
BEGIN:DAYLIGHT
TZOFFSETFROM:+0100
TZOFFSETTO:+0200
TZNAME:CEST
DTSTART:20210328T010000
END:DAYLIGHT
BEGIN:STANDARD
TZOFFSETFROM:+0200
TZOFFSETTO:+0100
TZNAME:CET
DTSTART:20211031T010000
END:STANDARD
END:VTIMEZONE
BEGIN:VEVENT
DTSTART;TZID=Europe/Brussels:20210904T110000
DTEND;TZID=Europe/Brussels:20210904T123000
DTSTAMP:20260420T091135
CREATED:20210608T131410Z
LAST-MODIFIED:20210609T082104Z
UID:10000149-1630753200-1630758600@lemuseedeleauetdelafontaine.be
SUMMARY:Visite guidée : "Rêveries Subaquatiques" d'Harry Fayt
DESCRIPTION:Une sortie culturelle en plein air\, ça vous tente ?\nVenez suivre une visite guidée l’exposition “Rêveries Subaquatiques” ! Durant une heure\, partez à la découverte des œuvres originales de l’artiste belge subaquatique Harry Fayt dans le cadre idyllique du Bois des Rêves. \n⏰ à 11h\n⏳Durée 1h\n💵 7\,50 euros par personne\n(À partir de 6 ans – Accompagnement : au moins 1 adulte)\n📷Exposition co-organisée par @Le Brabant wallon\, @Le Musée de l’Eau et de la Fontaine\, le @Bois des Rêves\, et @Harry Fayt. Avec le soutien d’@ORES pour les bâches en PET recyclé. \nChargement en cours…
URL:https://lemuseedeleauetdelafontaine.be/programme/visite-guidee-reveries-subaquatiques/2021-09-04/
CATEGORIES:visite guidée
END:VEVENT
END:VCALENDAR