BEGIN:VCALENDAR
VERSION:2.0
PRODID:-//Le musée de l&#039;eau et de la fontaine - ECPv6.6.3//NONSGML v1.0//EN
CALSCALE:GREGORIAN
METHOD:PUBLISH
X-ORIGINAL-URL:https://lemuseedeleauetdelafontaine.be
X-WR-CALDESC:Events for Le musée de l&#039;eau et de la fontaine
REFRESH-INTERVAL;VALUE=DURATION:PT1H
X-Robots-Tag:noindex
X-PUBLISHED-TTL:PT1H
BEGIN:VTIMEZONE
TZID:Europe/Brussels
BEGIN:DAYLIGHT
TZOFFSETFROM:+0100
TZOFFSETTO:+0200
TZNAME:CEST
DTSTART:20210328T010000
END:DAYLIGHT
BEGIN:STANDARD
TZOFFSETFROM:+0200
TZOFFSETTO:+0100
TZNAME:CET
DTSTART:20211031T010000
END:STANDARD
END:VTIMEZONE
BEGIN:VEVENT
DTSTART;TZID=Europe/Brussels:20210818T093000
DTEND;TZID=Europe/Brussels:20210818T153000
DTSTAMP:20260420T173049
CREATED:20210609T082931Z
LAST-MODIFIED:20210609T082931Z
UID:10000156-1629279000-1629300600@lemuseedeleauetdelafontaine.be
SUMMARY:Animation famille : Rallye des Aventuriers
DESCRIPTION:Cet été\, le MEF vous emmène dans un rallye en pleine forêt ! Après le succès de l’année passée\, on est heureux de vous annoncer le retour du Rallye des Aventuriers ! Un nouveau parcours plus sportif que le précédent vous attend ! Durant 1h30\, vous vous aventurerez dans les bois et de nombreux défis vous seront proposés afin d’arriver au bout ! Préparez votre courage et votre sens de l’orientation et partez à l’aventure !\nCette activité famille se fait en autonomie avec un départ toutes les 30 minutes ! \nEn bref :\nQuand ? Les 18\, 19\, 25 & 26 août\nEntre 9h30 et 15h30\nÀ partir de 7 ans\nDurée estimée : Entre 1h30 et 2h00\n8 euros par participant\nRéservation en ligne \nChargement en cours…
URL:https://lemuseedeleauetdelafontaine.be/programme/animation-famille-rallye-des-aventuriers/2021-08-18/
CATEGORIES:famille
END:VEVENT
END:VCALENDAR