BEGIN:VCALENDAR
VERSION:2.0
PRODID:-//Le musée de l&#039;eau et de la fontaine - ECPv6.6.3//NONSGML v1.0//EN
CALSCALE:GREGORIAN
METHOD:PUBLISH
X-WR-CALNAME:Le musée de l&#039;eau et de la fontaine
X-ORIGINAL-URL:https://lemuseedeleauetdelafontaine.be
X-WR-CALDESC:Events for Le musée de l&#039;eau et de la fontaine
REFRESH-INTERVAL;VALUE=DURATION:PT1H
X-Robots-Tag:noindex
X-PUBLISHED-TTL:PT1H
BEGIN:VTIMEZONE
TZID:Europe/Brussels
BEGIN:DAYLIGHT
TZOFFSETFROM:+0100
TZOFFSETTO:+0200
TZNAME:CEST
DTSTART:20210328T010000
END:DAYLIGHT
BEGIN:STANDARD
TZOFFSETFROM:+0200
TZOFFSETTO:+0100
TZNAME:CET
DTSTART:20211031T010000
END:STANDARD
END:VTIMEZONE
BEGIN:VEVENT
DTSTART;TZID=Europe/Brussels:20210802T090000
DTEND;TZID=Europe/Brussels:20210806T160000
DTSTAMP:20260420T091105
CREATED:20210309T134139Z
LAST-MODIFIED:20210618T101805Z
UID:10000141-1627894800-1628265600@lemuseedeleauetdelafontaine.be
SUMMARY:Stage été - K'eau Lanta: Le Choc des petits Titans (5-7 ans)
DESCRIPTION:Avis à tous les petits Titans\, le MEF recherche des aventuriers qui n’ont pas peur d’affronter la Jungle des Rêves ! Avec ton équipe de courageux explorateurs\, viens affronter cette semaine remplie d’activités en plein air et de chouettes expériences ! De nombreux défis t’attendent : parcours dans les bois\, course d’orientation\, fabrication d’un kit de survie\, bricolage nature\, épreuve des poteaux\, etc. \nEn bref :\nDu 2 au 6 & du 9 au 13 août \nDe 9h à 16h \nGarderie gratuite de 8h30 à 17h \n125 € par enfant \nRéservation obligatoire \nErreur : Formulaire de contact non trouvé !
URL:https://lemuseedeleauetdelafontaine.be/programme/stage-ete-keau-lanta-le-choc-des-petits-titans-5-7-ans/2021-08-02/
CATEGORIES:Stages
END:VEVENT
END:VCALENDAR